BEGIN:VCALENDAR
VERSION:2.0
PRODID:-//Happy Village - ECPv6.15.20//NONSGML v1.0//EN
CALSCALE:GREGORIAN
METHOD:PUBLISH
X-ORIGINAL-URL:https://happy-village.fr
X-WR-CALDESC:Évènements pour Happy Village
REFRESH-INTERVAL;VALUE=DURATION:PT1H
X-Robots-Tag:noindex
X-PUBLISHED-TTL:PT1H
BEGIN:VTIMEZONE
TZID:Europe/Paris
BEGIN:DAYLIGHT
TZOFFSETFROM:+0100
TZOFFSETTO:+0200
TZNAME:CEST
DTSTART:20250330T010000
END:DAYLIGHT
BEGIN:STANDARD
TZOFFSETFROM:+0200
TZOFFSETTO:+0100
TZNAME:CET
DTSTART:20251026T010000
END:STANDARD
BEGIN:DAYLIGHT
TZOFFSETFROM:+0100
TZOFFSETTO:+0200
TZNAME:CEST
DTSTART:20260329T010000
END:DAYLIGHT
BEGIN:STANDARD
TZOFFSETFROM:+0200
TZOFFSETTO:+0100
TZNAME:CET
DTSTART:20261025T010000
END:STANDARD
BEGIN:DAYLIGHT
TZOFFSETFROM:+0100
TZOFFSETTO:+0200
TZNAME:CEST
DTSTART:20270328T010000
END:DAYLIGHT
BEGIN:STANDARD
TZOFFSETFROM:+0200
TZOFFSETTO:+0100
TZNAME:CET
DTSTART:20271031T010000
END:STANDARD
END:VTIMEZONE
BEGIN:VEVENT
DTSTART;TZID=Europe/Paris:20260425T100000
DTEND;TZID=Europe/Paris:20260425T170000
DTSTAMP:20260421T140803
CREATED:20260420T093746Z
LAST-MODIFIED:20260420T094718Z
UID:10017052-1777111200-1777136400@happy-village.fr
SUMMARY:Stage chant - La voix et les 5 sens
DESCRIPTION:Le chant rend plus joyeux\, plus grand\, plus connecté à soi et aux autres. Venez en faire l’expérience ! \nStage chant et les 5 sens Noelle Capdeboscq \n 
URL:https://happy-village.fr/evenement/la-voix-et-les-5-sens/
LOCATION:Salle d’activités\, 1 rue du Breuil\, Rochefort\, 17300\, France
CATEGORIES:Évènements,Nouveau !
ATTACH;FMTTYPE=image/jpeg:https://happy-village.fr/wp-content/uploads/2026/04/Stage-cahnt-noelle-capduboscq-1080x720-1.jpg
ORGANIZER;CN="Noelle CAPDEBOSCQ":MAILTO:contact@noelle-capdeboscq.com
END:VEVENT
END:VCALENDAR