BEGIN:VCALENDAR
VERSION:2.0
PRODID:-//Happy Village - ECPv6.15.20//NONSGML v1.0//EN
CALSCALE:GREGORIAN
METHOD:PUBLISH
X-WR-CALNAME:Happy Village
X-ORIGINAL-URL:https://happy-village.fr
X-WR-CALDESC:Évènements pour Happy Village
REFRESH-INTERVAL;VALUE=DURATION:PT1H
X-Robots-Tag:noindex
X-PUBLISHED-TTL:PT1H
BEGIN:VTIMEZONE
TZID:Europe/Paris
BEGIN:DAYLIGHT
TZOFFSETFROM:+0100
TZOFFSETTO:+0200
TZNAME:CEST
DTSTART:20250330T010000
END:DAYLIGHT
BEGIN:STANDARD
TZOFFSETFROM:+0200
TZOFFSETTO:+0100
TZNAME:CET
DTSTART:20251026T010000
END:STANDARD
BEGIN:DAYLIGHT
TZOFFSETFROM:+0100
TZOFFSETTO:+0200
TZNAME:CEST
DTSTART:20260329T010000
END:DAYLIGHT
BEGIN:STANDARD
TZOFFSETFROM:+0200
TZOFFSETTO:+0100
TZNAME:CET
DTSTART:20261025T010000
END:STANDARD
BEGIN:DAYLIGHT
TZOFFSETFROM:+0100
TZOFFSETTO:+0200
TZNAME:CEST
DTSTART:20270328T010000
END:DAYLIGHT
BEGIN:STANDARD
TZOFFSETFROM:+0200
TZOFFSETTO:+0100
TZNAME:CET
DTSTART:20271031T010000
END:STANDARD
END:VTIMEZONE
BEGIN:VEVENT
DTSTART;TZID=Europe/Paris:20260505T110000
DTEND;TZID=Europe/Paris:20260505T121500
DTSTAMP:20260421T232644
CREATED:20240903T180555Z
LAST-MODIFIED:20250923T070454Z
UID:10014443-1777978800-1777983300@happy-village.fr
SUMMARY:Gymnastique Pilates - Véronique
DESCRIPTION:Véronique Thevenin propose un cours de gymnastique Pilates adapté à tous les niveaux. Il s’agit d’une gymnastique douce en pleine conscience inspirée de la méthode Pilates\, basée sur 19 ans d’expérience. Cette pratique est accessible à tous.\n\nChaque séance est une invitation à :\n\nRéaliser les mouvements en posant son attention sur ses sensations et sur sa respiration.\nCoordonner sa respiration sur les mouvements réalisés.\nRechercher le mouvement juste et fluide.\nSe relaxer profondément dans les étirements grâce à l’allongement en douceur de sa respiration.\nRespecter ses limites personnelles.\n\nUne musique douce vous accompagne.\nCette méthode permet de tonifier et relaxer le corps\, s’ancrer\, apaiser le mental et se ressourcer.\n\nVisiter le site de Véronique pour en savoir plus
URL:https://happy-village.fr/evenement/gymnastique-pilates/2026-05-05/
LOCATION:Salle d’activités\, 1 rue du Breuil\, Rochefort\, 17300\, France
CATEGORIES:Cours collectifs
ATTACH;FMTTYPE=image/jpeg:https://happy-village.fr/wp-content/uploads/2024/09/Pilates-Veronique-THEVENIN.jpg
ORGANIZER;CN="V%C3%A9ronique THEVENIN":MAILTO:veronique.thevenin3@orange.fr
END:VEVENT
BEGIN:VEVENT
DTSTART;VALUE=DATE:20260507
DTEND;VALUE=DATE:20260508
DTSTAMP:20260421T232644
CREATED:20250312T103315Z
LAST-MODIFIED:20250519T085916Z
UID:10013526-1778112000-1778198399@happy-village.fr
SUMMARY:Soins energétiques L'Or en Soi
DESCRIPTION:Libération des blocages émotionnels\, des mémoires cellulaires\, karmiques et transgénérationnelles\nVous souhaitez travailler sur des blessures du passé\, un deuil ou un changement de vie ou de travail ?\n\nLaurence Raymond “L’Or en soi” vous reçoit à Happy Village sur RDV\, le jeudi ou en visio.\n\n\nDepuis plus de 5 ans\, elle accompagne les personnes qui souhaitent améliorer leur vie présente en se libérant des blessures du passé\, notamment suite aux deuils et traumatismes. Faisant écho à son propre parcours\, elle s’appuie sur une formation solide et propose plusieurs outils et notamment :\n\nSoins énergétique étoile et sens®\nSE RECONNECTER À SON ÉTOILE POUR REDONNER UN SENS À SA VIE\nC’est un soin psycho-énergétique qui permet de se libérer de ses mémoires bloquantes. Il permet la libération des blocages émotionnels\, des mémoires cellulaires\, karmiques et transgénérationnelles.\n\nLES BIENFAITS\n•Aide à retrouver le sommeil\, apaise le mental\,\n•Travaille sur les traumatismes\, accélère le processus d’auto-guérison\,\n•Reprogramme le subconscient\, permet de passer à l’action\,\n•Aide au développement de la médiumnité\, élève le taux vibratoire.\nTarifs : 60€/ séance 1h en présentiel ou en visio\nSystémie quantique®\nIl s’agit d’une technique favorisant l’expression des émotions et ressentis face aux situations vécues\, à l’aide de galets représentant des personnes\, des lieux\, des projets. Ce support permet d’instaurer un dialogue entre vous et les personnes représentées symboliquement.\n\nLA SYSTÉMIE QUANTIQUE® PERMET DE :\n•Mettre en lumière une problématique dans un système\, familial\, professionnel… Se libérer des blocages et de l’héritage transgénérationnel.\n•Remettre du mouvement dans sa vie.\n•Poser un nouveau projet de vie\, travail\, maison\, lieu..\n•Mettre en lumière des mémoires de deuil\, des traumatismes\, des secrets de famille.\n\nSéances en présentiel ou en visio\nTarifs : 70€/ séance 1h30 ou 90€/ 2h\n\nGUIDANCE INTUITIVE\nLa guidance intuitive va vous inviter à revenir à l’intérieur de vous\, à mieux vous connaître\, et à percevoir votre potentiel.\nAvec les oracles et ma médiumnité\, Laurence vous transmet les informations que vous avez besoin d’entendre pour votre cheminement. C’est aussi des clefs pour vous aider à dépasser d’éventuels blocages et vous permettre de prendre conscience des trésors cachés. Une guidance intuitive est une rencontre avec son âme.\n\nTarifs : 60€/ séance 1h\, en présentiel ou en visio.
URL:https://happy-village.fr/evenement/soins-energetiques-lor-en-soi/2026-05-07/
LOCATION:Bureau 21\, 1 rue du Breuil\, Rochefort\, 17300\, France
CATEGORIES:Accompagnements individuels
ATTACH;FMTTYPE=image/jpeg:https://happy-village.fr/wp-content/uploads/2023/11/Visuel-web-Laurence-Raymond-1080-x-720-px.jpg
ORGANIZER;CN="Laurence RAYMOND":MAILTO:laurence.raymond17@gmail.com
END:VEVENT
BEGIN:VEVENT
DTSTART;TZID=Europe/Paris:20260521T193000
DTEND;TZID=Europe/Paris:20260521T203000
DTSTAMP:20260421T232644
CREATED:20251014T080811Z
LAST-MODIFIED:20251014T081129Z
UID:10016199-1779391800-1779395400@happy-village.fr
SUMMARY:Echangeons autour de la sophrologie
DESCRIPTION:La sophrologie\, bien plus qu’une méthode de relaxation.\nVenez échanger avec Madeleine KIM-TOURNEUR\, sophrologue sur les thématiques de la sophrologie. \nSur inscription. Participation libre. \n 
URL:https://happy-village.fr/evenement/echangeons-autour-de-la-sophrologie/2026-05-21/
LOCATION:Bureau 25\, 1 rue du Breuil\, Rochefort\, 17300\, France
CATEGORIES:Conférences,Nouveau !
ATTACH;FMTTYPE=image/jpeg:https://happy-village.fr/wp-content/uploads/2025/10/Evenements_sophrologie_1080x720.jpg
ORGANIZER;CN="Madeleine KIM-TOURNEUR":MAILTO:madeleine.sophrologie17@gmail.com
END:VEVENT
BEGIN:VEVENT
DTSTART;TZID=Europe/Paris:20260528T180000
DTEND;TZID=Europe/Paris:20260528T200000
DTSTAMP:20260421T232644
CREATED:20250825T141048Z
LAST-MODIFIED:20260325T091440Z
UID:10017043-1779991200-1779998400@happy-village.fr
SUMMARY:Atelier de Création littéraire
DESCRIPTION:Des ateliers d’écriture sont conçus comme des espaces d’expression libre et d’expérimentation artistique où tout le monde peut s’autoriser à écrire selon sa propre créativité à partir d’un thème\, d’une proposition\, d’un auteur\, d’un ouvrage ou de jeux d’écriture.  \nInscription en ligne auprès de Marine. \n 
URL:https://happy-village.fr/evenement/atelier-de-creation-litteraire/2026-05-28/
LOCATION:Bibliothèque\, 1 rue du Breuil\, Rochefort\, 17300\, France
CATEGORIES:Ateliers,Évènements
ATTACH;FMTTYPE=image/png:https://happy-village.fr/wp-content/uploads/2025/08/creation-litteraire.png
ORGANIZER;CN="Biblioth%C3%A8que pour Tous":MAILTO:rossimarie@live.fr
END:VEVENT
BEGIN:VEVENT
DTSTART;TZID=Europe/Paris:20260613T140000
DTEND;TZID=Europe/Paris:20260613T170000
DTSTAMP:20260421T232644
CREATED:20260325T082913Z
LAST-MODIFIED:20260325T083409Z
UID:10017025-1781359200-1781370000@happy-village.fr
SUMMARY:Danse contemporaine Mathilde PERROT
DESCRIPTION:Stage Danse parents-enfants\n			\n				\n				\n				\n				\n				\n				\n				\n					\n                            \n				        \n                                \n                                \n                                	\n	                                    9h30-10h30\n	                                    Parents-Enfants 1-3 ans\n	                                    \n	                                  	\n	                                \n                                \n                                \n                            \n			\n				        \n                                \n                                \n                                	\n	                                    10h45-11h45\n	                                    Parents-Enfants 3-6 ans
URL:https://happy-village.fr/evenement/danse-contemporaine-mathilde-perrot/2026-06-13/
LOCATION:Salle d’activités\, 1 rue du Breuil\, Rochefort\, 17300\, France
CATEGORIES:Ateliers,Évènements,Nouveau !
ATTACH;FMTTYPE=image/jpeg:https://happy-village.fr/wp-content/uploads/2024/10/Stage-Danse-Mathilde-Perrot_web.jpg
ORGANIZER;CN="Mathilde PERROT":MAILTO:mathildeperrot.danse@gmail.com
END:VEVENT
END:VCALENDAR