BEGIN:VCALENDAR
VERSION:2.0
PRODID:-//Happy Village - ECPv6.15.20//NONSGML v1.0//EN
CALSCALE:GREGORIAN
METHOD:PUBLISH
X-WR-CALNAME:Happy Village
X-ORIGINAL-URL:https://happy-village.fr
X-WR-CALDESC:Évènements pour Happy Village
REFRESH-INTERVAL;VALUE=DURATION:PT1H
X-Robots-Tag:noindex
X-PUBLISHED-TTL:PT1H
BEGIN:VTIMEZONE
TZID:Europe/Paris
BEGIN:DAYLIGHT
TZOFFSETFROM:+0100
TZOFFSETTO:+0200
TZNAME:CEST
DTSTART:20250330T010000
END:DAYLIGHT
BEGIN:STANDARD
TZOFFSETFROM:+0200
TZOFFSETTO:+0100
TZNAME:CET
DTSTART:20251026T010000
END:STANDARD
BEGIN:DAYLIGHT
TZOFFSETFROM:+0100
TZOFFSETTO:+0200
TZNAME:CEST
DTSTART:20260329T010000
END:DAYLIGHT
BEGIN:STANDARD
TZOFFSETFROM:+0200
TZOFFSETTO:+0100
TZNAME:CET
DTSTART:20261025T010000
END:STANDARD
BEGIN:DAYLIGHT
TZOFFSETFROM:+0100
TZOFFSETTO:+0200
TZNAME:CEST
DTSTART:20270328T010000
END:DAYLIGHT
BEGIN:STANDARD
TZOFFSETFROM:+0200
TZOFFSETTO:+0100
TZNAME:CET
DTSTART:20271031T010000
END:STANDARD
END:VTIMEZONE
BEGIN:VEVENT
DTSTART;VALUE=DATE:20260424
DTEND;VALUE=DATE:20260425
DTSTAMP:20260424T100457
CREATED:20250227T095553Z
LAST-MODIFIED:20250227T114548Z
UID:10012991-1776988800-1777075199@happy-village.fr
SUMMARY:Consultations Gestalt Thérapie
DESCRIPTION:Votre vie ne vous satisfait pas pleinement\, et votre Être est en questionnement…\nDécouvrez la liberté intérieure et retrouvez une vie épanouie grâce à l’accompagnement individuel de Nora ACHOUI BERCK en Gestalt Thérapie.
URL:https://happy-village.fr/evenement/consultations-gestalt-therapie/2026-04-24/
LOCATION:Bureau 25\, 1 rue du Breuil\, Rochefort\, 17300\, France
CATEGORIES:Accompagnements individuels
ATTACH;FMTTYPE=image/jpeg:https://happy-village.fr/wp-content/uploads/2025/02/Gestalt-Therapie-Nora-CHOUI-BERCK.jpg
ORGANIZER;CN="Nora ACHOUI-BERCK":MAILTO:therapie.relation@free.fr
END:VEVENT
BEGIN:VEVENT
DTSTART;VALUE=DATE:20260424
DTEND;VALUE=DATE:20260425
DTSTAMP:20260424T100457
CREATED:20251121T135138Z
LAST-MODIFIED:20251121T144102Z
UID:10016732-1776988800-1777075199@happy-village.fr
SUMMARY:Conseils personnalisés Lithothérapie + un cristal de roche offert
DESCRIPTION:Conseils personnalisés. Un cristal de roche offert.\nDurée 45 minutes\nPrendre rendez- vous : 07 80 14 05 74
URL:https://happy-village.fr/evenement/consultation-de-lithotherapie-avec-conseils-personnalises/2026-04-24/
LOCATION:Cocon\, 1 rue du Breuil\, Rochefort\, 17300\, France
CATEGORIES:Accompagnements individuels,Carte Cadeau
ATTACH;FMTTYPE=image/jpeg:https://happy-village.fr/wp-content/uploads/2025/09/Vente-et-conseils-mineraux-1.jpg
ORGANIZER;CN="Sophie LOISEAU":MAILTO:loiseau.naturelle@yahoo.com
END:VEVENT
BEGIN:VEVENT
DTSTART;TZID=Europe/Paris:20260424T093000
DTEND;TZID=Europe/Paris:20260424T104500
DTSTAMP:20260424T100457
CREATED:20250818T143540Z
LAST-MODIFIED:20251121T145256Z
UID:10014023-1777023000-1777027500@happy-village.fr
SUMMARY:Yin Yoga et Nidra
DESCRIPTION:Yin Yoga\n\nÀ la croisée des chemins entre  Yoga\, Taoïsme et Bouddhisme\, le Yin Yoga invite à une reconnexion profonde avec soi-même. Grâce à des postures simples maintenues dans la durée\, il agit sur les tissus conjonctifs et favorise la souplesse articulaire. En parallèle\, la respiration consciente et le calme du mental permettent d’explorer les dimensions plus subtiles de l’être.\n\nYoga Nidra\n\nLe Yoga Nidra\, aussi appelé « sommeil yogique »\, est une pratique de relaxation profonde qui se vit allongé\, dans une position confortable. Contrairement aux formes de yoga plus physiques\, ici\, aucun effort n’est requis : vous êtes guidé par la voix du professeur dans un voyage intérieur\, entre veille et sommeil.\n\nCette méthode douce permet d’atteindre un état de détente intense\, tout en restant conscient.\n\nElle agit sur le corps\, le mental et les émotions\, offrant un vrai moment de régénération.\n✨quelques bienfaits possible :\n\nRéduction du stress et de l’anxiété\nAmélioration du sommeil et de la qualité du repos\nApaisement du mental et des pensées\nLibération des tensions physiques et émotionnelles\nRenforcement de la concentration et de la clarté intérieure\n\n\nAccessible à tous\, le Yoga Nidra est particulièrement recommandé aux personnes en quête de calme\, de récupération ou de recentrage. Une séance peut procurer les effets d’un sommeil profond\, tout en vous reconnectant à votre espace intérieur.
URL:https://happy-village.fr/evenement/yin-yoga-et-yoga-nidra/2026-04-24/
LOCATION:Salle d’activités\, 1 rue du Breuil\, Rochefort\, 17300\, France
CATEGORIES:Carte Cadeau,Cours collectifs
ATTACH;FMTTYPE=image/png:https://happy-village.fr/wp-content/uploads/2025/08/Yin-Yoga-Joey.png
ORGANIZER;CN="Joey AMIENS":MAILTO:contact@yogajourney.fr
END:VEVENT
BEGIN:VEVENT
DTSTART;TZID=Europe/Paris:20260424T110000
DTEND;TZID=Europe/Paris:20260424T121500
DTSTAMP:20260424T100457
CREATED:20250818T143043Z
LAST-MODIFIED:20260325T090209Z
UID:10014060-1777028400-1777032900@happy-village.fr
SUMMARY:Yoga Mandala Flow & Yoga Nidra
DESCRIPTION:Le Yoga Mandala Flow vous invite à explorer votre corps en mouvement. \nInspirée des quatre éléments — terre\, eau\, feu et air — cette pratique vous fait voyager autour du tapis\, dans des enchaînements fluides et circulaires. \nChaque séance est une danse douce entre respiration\, posture et énergie\, guidée par la musique et l’ambiance du studio. \nOn y développe souplesse\, force et concentration\, tout en se reconnectant à soi dans un esprit ludique et méditatif. \nAccessible à tous\, c’est une belle façon de découvrir le yoga autrement. \nYoga Nidra\n\nLe Yoga Nidra\, aussi appelé « sommeil yogique »\, est une pratique de relaxation profonde qui se vit allongé\, dans une position confortable. Contrairement aux formes de yoga plus physiques\, ici\, aucun effort n’est requis : vous êtes guidé par la voix du professeur dans un voyage intérieur\, entre veille et sommeil.\n\nCette méthode douce permet d’atteindre un état de détente intense\, tout en restant conscient.\n\nElle agit sur le corps\, le mental et les émotions\, offrant un vrai moment de régénération.\n✨quelques bienfaits possible :\n\nRéduction du stress et de l’anxiété\nAmélioration du sommeil et de la qualité du repos\nApaisement du mental et des pensées\nLibération des tensions physiques et émotionnelles\nRenforcement de la concentration et de la clarté intérieure\n\n\nAccessible à tous\, le Yoga Nidra est particulièrement recommandé aux personnes en quête de calme\, de récupération ou de recentrage. Une séance peut procurer les effets d’un sommeil profond\, tout en vous reconnectant à votre espace intérieur.
URL:https://happy-village.fr/evenement/yoga-mandala-flow/2026-04-24/
LOCATION:Salle d’activités\, 1 rue du Breuil\, Rochefort\, 17300\, France
CATEGORIES:Carte Cadeau,Cours collectifs
ATTACH;FMTTYPE=image/png:https://happy-village.fr/wp-content/uploads/2025/08/Mandala-Flow-Yoga-Joey.png
ORGANIZER;CN="Joey AMIENS":MAILTO:contact@yogajourney.fr
END:VEVENT
BEGIN:VEVENT
DTSTART;TZID=Europe/Paris:20260424T120000
DTEND;TZID=Europe/Paris:20260424T140000
DTSTAMP:20260424T100457
CREATED:20251121T144635Z
LAST-MODIFIED:20251218T083724Z
UID:10016965-1777032000-1777039200@happy-village.fr
SUMMARY:Jeu d'expression
DESCRIPTION:Le Jeu d’expression est un atelier de peinture libre qui se pratique en groupe avec d’autres peintres de tout âge confondu. On peint avec des couleurs de grande qualité et des pinceaux de haute gamme. Des règles simples orientent dans cet espace libre et infini. Martina vous sert\, vous soutient et vous accompagne dans le non-jugement. \nChaque personne pratiquant le Jeu d’expression\, retrouve tout naturellement ses capacités créatives. Aucun jugement ou autre obstacle dérange la rencontre de chaque peintre avec son vaste univers créatif. Au milieu des autres peintres\, qui jouent le même jeu\, et protégé par l’accompagnement et le soutien de Martina\, chacun savoure\, s’exprime\, découvre\, expérimente\, s’étale avec grand plaisir et en toute simplicité.  \nLa pratique du Jeu d’expression permet de vous connecter à vos ressources et de libérer votre créativité\, renforcer votre concentration\, développer votre estime de soi\, l’ envie\, le plaisir et la confiance. Les difficultés scolaires\, la concentration\, le comportement\, mais aussi les troubles dépressifs ou autres\, sont largement améliorés après peu de temps.  \nLes ateliers ont lieu les mercredis\, les vendredis et les dimanches\, à Happy Village. Toutes les séances sont ouvertes à tout public de 3 à 103 ans\, sans prédisposition particulière. \nMartina accompagne également les personnes qui le souhaitent en thérapie individuelle (psychothérapie ou art-thérapie)
URL:https://happy-village.fr/evenement/jeu-expression-vendredi-2/2026-04-24/
LOCATION:Atelier de martina\, 1 rue du Breuil\, Rochefort\, 17300\, France
CATEGORIES:Ateliers,Carte Cadeau
ATTACH;FMTTYPE=image/png:https://happy-village.fr/wp-content/uploads/2023/03/JEU-DEXPRESSION.png
ORGANIZER;CN="Martina WEISSGERBER":MAILTO:maltraum@aol.com
END:VEVENT
BEGIN:VEVENT
DTSTART;TZID=Europe/Paris:20260424T140000
DTEND;TZID=Europe/Paris:20260424T153000
DTSTAMP:20260424T100457
CREATED:20250904T100430Z
LAST-MODIFIED:20251002T063226Z
UID:10014180-1777039200-1777044600@happy-village.fr
SUMMARY:Qi Gong
DESCRIPTION:Qi Gong (le “ressenti”) \n\nLe Qi (prononcé “Tchi”) Gong (prononcé “Kong”) littéralement “Travail de l’énergie”\, est une pratique douce\, branche de la médecine traditionnelle chinoise\, qui vise à améliorer la santé\, le bien-être\, qui équilibre le corps\, le souffle et l’esprit. \n\n  \n\nComment se déroule une séance ?\n\nDes auto-massages\nDes enchainements de mouvements doux et lents\nDes marches\nDe la méditation/relaxation\nDu travail de la respiration abdominale\n\n\n\nÉquipement et matériel à prévoir\nUne tenue confortable et  des chaussures souples\, des chaussettes ou pieds nus\nPour la relaxation\, vous pouvez apporter votre tapis \nSéances à l’extérieur dès que possible \n\n\n\nInscription possible toute l’année
URL:https://happy-village.fr/evenement/qi-gong-4/2026-04-24/
LOCATION:Salle d’activités\, 1 rue du Breuil\, Rochefort\, 17300\, France
CATEGORIES:Cours collectifs
ATTACH;FMTTYPE=image/jpeg:https://happy-village.fr/wp-content/uploads/2024/09/Qi-Gong-Gaelle-AUGE.jpg
ORGANIZER;CN="Ga%C3%ABlle AUG%C3%89":MAILTO:qigongetc17290@gmail.com
END:VEVENT
BEGIN:VEVENT
DTSTART;TZID=Europe/Paris:20260424T200000
DTEND;TZID=Europe/Paris:20260424T213000
DTSTAMP:20260424T100457
CREATED:20250819T083031Z
LAST-MODIFIED:20260325T085745Z
UID:10013932-1777060800-1777066200@happy-village.fr
SUMMARY:Danse à talons (Heels)
DESCRIPTION:Heels\nInscriptions\nTeeta Fitcoach – Coach Sportive
URL:https://happy-village.fr/evenement/zumba-fitn-dance/2026-04-24/
LOCATION:Salle d’activités\, 1 rue du Breuil\, Rochefort\, 17300\, France
CATEGORIES:Cours collectifs,Nouveau !
ATTACH;FMTTYPE=image/jpeg:https://happy-village.fr/wp-content/uploads/2025/07/TEETA-FITNESS-ZUMBA-2025.jpg
ORGANIZER;CN="Teeta FITCOACH":MAILTO:qg.fitcoach@gmail.com
END:VEVENT
END:VCALENDAR